BEGIN:VCALENDAR
PRODID:-//kirchenweb.ch gmbh//veranstaltungsausgabe v2.0//DE
VERSION:2.0
METHOD:PUBLISH
BEGIN:VEVENT
DTSTART:20240214T060000Z
DTEND:20240214T064500Z
LOCATION:Mesmerhuus Saal\, Kloster 14\, 8222 Löhningen
TRANSP:OPAQUE
SEQUENCE:0
UID:161275-veranstaltung@ref-sh.ch
DTSTAMP:20231220T101918Z
DESCRIPTION:Kontakt: ruedi.spoerndli@ref-sh.ch\n\nWeitere Infos:
  https://www.ref-sh.ch/veranstaltung/161275
SUMMARY:Frühgebet
PRIORITY:5
X-MICROSOFT-CDO-IMPORTANCE:1
CLASS:PUBLIC
END:VEVENT
END:VCALENDAR
