BEGIN:VCALENDAR
PRODID:-//kirchenweb.ch gmbh//veranstaltungsausgabe v2.0//DE
VERSION:2.0
METHOD:PUBLISH
BEGIN:VEVENT
DTSTART:20241016T094500Z
DTEND:20241016T104500Z
LOCATION:Früeling - Zentrum fürs Alter\, Zelgstrasse 2\, 8222 Beringen
TRANSP:OPAQUE
SEQUENCE:0
UID:161210-veranstaltung@ref-sh.ch
DTSTAMP:20240819T064321Z
DESCRIPTION:Kontakt: Anmeldung im Früeling - Zentrum fürs Alter\nTel.
  052 685 16 51\n\nWeitere Infos:
  https://www.ref-sh.ch/veranstaltung/161210
SUMMARY:Senioren-Mittagstisch für Löhningen und Guntmadingen
PRIORITY:5
X-MICROSOFT-CDO-IMPORTANCE:1
CLASS:PUBLIC
END:VEVENT
END:VCALENDAR
