BEGIN:VCALENDAR
PRODID:-//kirchenweb.ch gmbh//veranstaltungsausgabe v2.0//DE
VERSION:2.0
METHOD:PUBLISH
BEGIN:VEVENT
DTSTART:20240717T094500Z
DTEND:20240717T104500Z
LOCATION:Früehling - Zentrum fürs Alter\, Zelgstrasse 2\, 8222 Beringen
TRANSP:OPAQUE
SEQUENCE:0
UID:161207-veranstaltung@ref-sh.ch
DTSTAMP:20231221T093109Z
DESCRIPTION:Kontakt: Anmeldung im Früehling - Zentrum fürs Alter\nTel.
  052 685 16 51\n\nWeitere Infos:
  https://www.ref-sh.ch/veranstaltung/161207
SUMMARY:Senioren-Mittagstisch für Löhningen  und Guntmadingen
PRIORITY:5
X-MICROSOFT-CDO-IMPORTANCE:1
CLASS:PUBLIC
END:VEVENT
END:VCALENDAR
