BEGIN:VCALENDAR
PRODID:-//kirchenweb.ch gmbh//veranstaltungsausgabe v2.0//DE
VERSION:2.0
METHOD:PUBLISH
BEGIN:VEVENT
DTSTART:20240303T084500Z
DTEND:20240303T094500Z
LOCATION:Mesmerhuus\, Kloster 14\, 8224 Löhningen
TRANSP:OPAQUE
SEQUENCE:0
UID:161168-veranstaltung@ref-sh.ch
DTSTAMP:20240213T104419Z
DESCRIPTION:Während des Gottesdienstes und der anschliessenden
  Gottesdienst-Diskussion werden Kinder bis ungefähr vier Jahren in der
  Chindehüeti betreut.\n\nKinder ab 1. Kindergarten sind herzlich
  eingeladen in die
  https://www.ref-sh.ch/kg/loehningen/veranstaltung/161816\n\nKontakt:
  Ursula Schöttli\n\nWeitere Infos:
  https://www.ref-sh.ch/veranstaltung/161168
SUMMARY:Chindehüeti
PRIORITY:5
X-MICROSOFT-CDO-IMPORTANCE:1
CLASS:PUBLIC
END:VEVENT
END:VCALENDAR
