BEGIN:VCALENDAR
PRODID:-//kirchenweb.ch gmbh//veranstaltungsausgabe v2.0//DE
VERSION:2.0
METHOD:PUBLISH
BEGIN:VEVENT
DTSTART:20240121T093000Z
DTEND:20240121T103000Z
LOCATION:Mesmerhuus\, Kloster 14\, 8224 Löhningen
TRANSP:OPAQUE
SEQUENCE:0
UID:161165-veranstaltung@ref-sh.ch
DTSTAMP:20240118T111346Z
DESCRIPTION:Während des Gottesdienstes werden Kinder bis ungefähr vier
  Jahren in der Chindehüeti betreut.\n\nKinder ab 1. Kindergarten sind
  herzlich eingeladen in das
  https://www.ref-sh.ch/kg/loehningen/veranstaltung/159230 \n\nKontakt:
  Ursula Schöttli\n\nWeitere Infos:
  https://www.ref-sh.ch/veranstaltung/161165
SUMMARY:Chindehüeti
PRIORITY:5
X-MICROSOFT-CDO-IMPORTANCE:1
CLASS:PUBLIC
END:VEVENT
END:VCALENDAR
