BEGIN:VCALENDAR
PRODID:-//kirchenweb.ch gmbh//veranstaltungsausgabe v2.0//DE
VERSION:2.0
METHOD:PUBLISH
BEGIN:VEVENT
DTSTART:20240114T084500Z
DTEND:20240114T094500Z
LOCATION:Evangelische Freikirche Chrischona Beringen\,
  Schleitheimerstrasse 24\, 8222 Beringen
TRANSP:OPAQUE
SEQUENCE:0
UID:161164-veranstaltung@ref-sh.ch
DTSTAMP:20240110T130319Z
DESCRIPTION:Während des Gottesdienstes werden Kinder bis ungefähr vier
  Jahren in der Chindehüeti betreut.\n\nFür Kinder ab 1. Kindergarten
  gibt es ein Kinderprogramm.\n\nKontakt: Ursula Schöttli\n\nWeitere
  Infos: https://www.ref-sh.ch/veranstaltung/161164
SUMMARY:Chindehüeti
PRIORITY:5
X-MICROSOFT-CDO-IMPORTANCE:1
CLASS:PUBLIC
END:VEVENT
END:VCALENDAR
