BEGIN:VCALENDAR
PRODID:-//kirchenweb.ch gmbh//veranstaltungsausgabe v2.0//DE
VERSION:2.0
METHOD:PUBLISH
BEGIN:VEVENT
DTSTART:20240429T070000Z
DTEND:20240429T093000Z
LOCATION:Nachbar Stahlgiesserei\, zur Stahlgiesserei 15b\, 8200
  Schaffhausen
TRANSP:OPAQUE
SEQUENCE:0
UID:161110-veranstaltung@ref-sh.ch
DTSTAMP:20240109T074008Z
DESCRIPTION:Genug vom Home-office? Dann komm vorbei und nutze den Raum
  für Co-working\n\nKontakt: thom\nThomas Nohl\n\nWeitere Infos:
  https://www.ref-sh.ch/veranstaltung/161110
SUMMARY:Co-working statt Home-office
PRIORITY:5
X-MICROSOFT-CDO-IMPORTANCE:1
CLASS:PUBLIC
END:VEVENT
END:VCALENDAR
