BEGIN:VCALENDAR
PRODID:-//kirchenweb.ch gmbh//veranstaltungsausgabe v2.0//DE
VERSION:2.0
METHOD:PUBLISH
BEGIN:VEVENT
DTSTART:20240108T073000Z
DTEND:20240108T103000Z
LOCATION:Nachbar Stahlgiesserei\, zur Stahlgiesserei 15b\, 8200
  Schaffhausen
TRANSP:OPAQUE
SEQUENCE:0
UID:161095-veranstaltung@ref-sh.ch
DTSTAMP:20231218T163004Z
DESCRIPTION:Vom scrollen zum plaudern - komm vorbei und nutze den Raum
  für Co-working\n\nKontakt: thom\nThomas Nohl\n\nWeitere Infos:
  https://www.ref-sh.ch/veranstaltung/161095
SUMMARY:Co-working statt Home-office
PRIORITY:5
X-MICROSOFT-CDO-IMPORTANCE:1
CLASS:PUBLIC
END:VEVENT
END:VCALENDAR
