BEGIN:VCALENDAR
PRODID:-//kirchenweb.ch gmbh//veranstaltungsausgabe v2.0//DE
VERSION:2.0
METHOD:PUBLISH
BEGIN:VEVENT
DTSTART:20240118T180000Z
DTEND:20240118T200000Z
LOCATION:Pfarrhaussaal\, Im Chloster 1\, 8214 Gächlingen
TRANSP:OPAQUE
SEQUENCE:0
UID:161066-veranstaltung@ref-sh.ch
DTSTAMP:20231216T160045Z
DESCRIPTION:An diesem Abend werden wir einige Entscheidungen in Bezug auf
  die Konfirmation am 24. März treffen. Eure Ideen sind gefragt!\n
 \nKontakt: Marianne Näf-Bräker\nZoé Werner\nPfr. Werner Näf \n
 \nWeitere Infos: https://www.ref-sh.ch/veranstaltung/161066
SUMMARY:Konf-Unterricht: Vorbereitung Konfirmation
PRIORITY:5
X-MICROSOFT-CDO-IMPORTANCE:1
CLASS:PUBLIC
END:VEVENT
END:VCALENDAR
