BEGIN:VCALENDAR
PRODID:-//kirchenweb.ch gmbh//veranstaltungsausgabe v2.0//DE
VERSION:2.0
METHOD:PUBLISH
BEGIN:VEVENT
DTSTART:20240123T140000Z
DTEND:20240123T160000Z
LOCATION:Zwinglikirche\, Hochstr. 202\, 8200 Schaffhausen
TRANSP:OPAQUE
SEQUENCE:0
UID:161015-veranstaltung@ref-sh.ch
DTSTAMP:20231221T102603Z
DESCRIPTION:für Menschen 55+\, die in der Stadt \nSchaffhausen und
  Umgebung wohnen\n\njeden 4. Dienstag im Monat\, 15h bis 17h\n\n>
  Informationsveranstaltungen und persönliche Beratungen\n> Kontakte
  knüpfen\, sich austauschen\, gemütlich beisammensitzen \n> Sich an
  verschiedenen Aktivitäten und Kursen beteiligen \n\nEin Angebot von HEKS
  AltuM\, Geschäftsstelle ZH/SH\, welches als \nPilotprojekt mit
  finanzieller Unterstützung der Evangelisch-reformierten Kirche des
  Kantons Schaffhausen durchgeführt wird. \nBeim Treffpunkt «Zwingli»
  treffen sich Migrantinnen und Migranten sowie Schweizer und
  Schweizerinnen mit Interesse an anderen Kulturen.\n\nMiriam Moser\, HEKS
  AltuM Programmleiterin\nSeminarstrasse 28\, 8042 Zürich \nTel: 044 360
  89 62\, E-Mail: http://miriam.moser@heks.ch \n\n\n\n\n\nKontakt:
  Christina Neuweiler-Donet\n\nWeitere Infos:
  https://www.ref-sh.ch/veranstaltung/161015
SUMMARY:Treffpunkt Zwingli für Alter und Migration AltuM
PRIORITY:5
X-MICROSOFT-CDO-IMPORTANCE:1
CLASS:PUBLIC
END:VEVENT
END:VCALENDAR
