BEGIN:VCALENDAR
PRODID:-//kirchenweb.ch gmbh//veranstaltungsausgabe v2.0//DE
VERSION:2.0
METHOD:PUBLISH
BEGIN:VEVENT
DTSTART:20240523T080000Z
DTEND:20240523T090000Z
LOCATION:Früeling - Zentrum fürs Alter\, Zelgstr. 2\, 8222 Beringen
TRANSP:OPAQUE
SEQUENCE:0
UID:160938-veranstaltung@ref-sh.ch
DTSTAMP:20240413T062634Z
DESCRIPTION:Kontakt: Pfr. i.R. Hansjörg Hasler\n\nWeitere Infos:
  https://www.ref-sh.ch/veranstaltung/160938
SUMMARY:Gottesdienst im Früeling - Zentrum fürs Alter
PRIORITY:5
X-MICROSOFT-CDO-IMPORTANCE:1
CLASS:PUBLIC
END:VEVENT
END:VCALENDAR
