BEGIN:VCALENDAR
PRODID:-//kirchenweb.ch gmbh//veranstaltungsausgabe v2.0//DE
VERSION:2.0
METHOD:PUBLISH
BEGIN:VEVENT
DTSTART:20241219T090000Z
DTEND:20241219T100000Z
LOCATION:Früeling - Zentrum fürs Alter\, Zelgstr. 2\, 8222 Beringen
TRANSP:OPAQUE
SEQUENCE:0
UID:160925-veranstaltung@ref-sh.ch
DTSTAMP:20231221T080911Z
DESCRIPTION:mit Abendmahl\n\nKontakt: Pastorin Milena Šelemba\n\nWeitere
  Infos: https://www.ref-sh.ch/veranstaltung/160925
SUMMARY:Gottesdienst im Früeling - Zentrum fürs Alter
PRIORITY:5
X-MICROSOFT-CDO-IMPORTANCE:1
CLASS:PUBLIC
END:VEVENT
END:VCALENDAR
