BEGIN:VCALENDAR
PRODID:-//kirchenweb.ch gmbh//veranstaltungsausgabe v2.0//DE
VERSION:2.0
METHOD:PUBLISH
BEGIN:VEVENT
DTSTART:20240116T083000Z
DTEND:20240116T100000Z
LOCATION:Münster\, \,
TRANSP:OPAQUE
SEQUENCE:0
UID:160891-veranstaltung@ref-sh.ch
DTSTAMP:20231212T131840Z
DESCRIPTION:Kontakt: Gabriela Fahrni\n\nWeitere Infos:
  https://www.ref-sh.ch/veranstaltung/160891
SUMMARY:Kirchenbesichtigung mit "Unti-Kinder"
PRIORITY:5
X-MICROSOFT-CDO-IMPORTANCE:1
CLASS:PUBLIC
END:VEVENT
END:VCALENDAR
