BEGIN:VCALENDAR
PRODID:-//kirchenweb.ch gmbh//veranstaltungsausgabe v2.0//DE
VERSION:2.0
METHOD:PUBLISH
BEGIN:VEVENT
DTSTART:20240602T170000Z
DTEND:20240602T180000Z
LOCATION:Kirche\, Schlatterhof\, 8231 Hemmental
TRANSP:OPAQUE
SEQUENCE:0
UID:160577-veranstaltung@ref-sh.ch
DTSTAMP:20231208T163018Z
DESCRIPTION:Kontakt: Beat Wanner\n\nWeitere Infos:
  https://www.ref-sh.ch/veranstaltung/160577
SUMMARY:Abendgottesdienst
PRIORITY:5
X-MICROSOFT-CDO-IMPORTANCE:1
CLASS:PUBLIC
END:VEVENT
END:VCALENDAR
