BEGIN:VCALENDAR
PRODID:-//kirchenweb.ch gmbh//veranstaltungsausgabe v2.0//DE
VERSION:2.0
METHOD:PUBLISH
BEGIN:VEVENT
DTSTART:20240602T074500Z
DTEND:20240602T084500Z
LOCATION:Café Durachtreff\, Durachstrasse 18\, 8232 Merishausen
TRANSP:OPAQUE
SEQUENCE:0
UID:160576-veranstaltung@ref-sh.ch
DTSTAMP:20231208T163017Z
DESCRIPTION:Kontakt: Beat Wanner\n\nWeitere Infos:
  https://www.ref-sh.ch/veranstaltung/160576
SUMMARY:Gottesdienst
PRIORITY:5
X-MICROSOFT-CDO-IMPORTANCE:1
CLASS:PUBLIC
END:VEVENT
END:VCALENDAR
