BEGIN:VCALENDAR
PRODID:-//kirchenweb.ch gmbh//veranstaltungsausgabe v2.0//DE
VERSION:2.0
METHOD:PUBLISH
BEGIN:VEVENT
DTSTART:20240526T170000Z
DTEND:20240526T180000Z
LOCATION:Kirche\, Kirchgasse\, 8232 Merishausen
TRANSP:OPAQUE
SEQUENCE:0
UID:160574-veranstaltung@ref-sh.ch
DTSTAMP:20240226T120034Z
DESCRIPTION:Kontakt: Beat Wanner\n\nWeitere Infos:
  https://www.ref-sh.ch/veranstaltung/160574
SUMMARY:🔝Taizé- Feier
PRIORITY:5
X-MICROSOFT-CDO-IMPORTANCE:1
CLASS:PUBLIC
END:VEVENT
END:VCALENDAR
