BEGIN:VCALENDAR
PRODID:-//kirchenweb.ch gmbh//veranstaltungsausgabe v2.0//DE
VERSION:2.0
METHOD:PUBLISH
BEGIN:VEVENT
DTSTART:20240201T143000Z
DTEND:20240201T153000Z
LOCATION:Huus Emmersberg\, Bürgerstrasse 23\, 8200 Schaffhausen
TRANSP:OPAQUE
SEQUENCE:0
UID:160540-veranstaltung@ref-sh.ch
DTSTAMP:20231207T155531Z
DESCRIPTION:Kontakt: Verena Hubmann\n\nWeitere Infos:
  https://www.ref-sh.ch/veranstaltung/160540
SUMMARY:Gottesdienst im Huus Emmersberg
PRIORITY:5
X-MICROSOFT-CDO-IMPORTANCE:1
CLASS:PUBLIC
END:VEVENT
END:VCALENDAR
