BEGIN:VCALENDAR
PRODID:-//kirchenweb.ch gmbh//veranstaltungsausgabe v2.0//DE
VERSION:2.0
METHOD:PUBLISH
BEGIN:VEVENT
DTSTART:20240201T090000Z
DTEND:20240201T100000Z
LOCATION:Künzleheim\, Bürgerstr. 36\, 8200 Schaffhausen
TRANSP:OPAQUE
SEQUENCE:0
UID:160528-veranstaltung@ref-sh.ch
DTSTAMP:20231207T155128Z
DESCRIPTION:Kontakt: Verena Hubmann\n\nWeitere Infos:
  https://www.ref-sh.ch/veranstaltung/160528
SUMMARY:Gottesdienst im Künzle-Heim
PRIORITY:5
X-MICROSOFT-CDO-IMPORTANCE:1
CLASS:PUBLIC
END:VEVENT
END:VCALENDAR
