BEGIN:VCALENDAR
PRODID:-//kirchenweb.ch gmbh//veranstaltungsausgabe v2.0//DE
VERSION:2.0
METHOD:PUBLISH
BEGIN:VEVENT
DTSTART:20240118T090000Z
DTEND:20240118T100000Z
LOCATION:Altersheim Schönbühl\, Ungarbühlstr.4\, 8200 Schaffhausen
TRANSP:OPAQUE
SEQUENCE:0
UID:160225-veranstaltung@ref-sh.ch
DTSTAMP:20231205T110312Z
DESCRIPTION:Kontakt: Verena Hubmann\n\nWeitere Infos:
  https://www.ref-sh.ch/veranstaltung/160225
SUMMARY:Gottesdienst im Schönbühl
PRIORITY:5
X-MICROSOFT-CDO-IMPORTANCE:1
CLASS:PUBLIC
END:VEVENT
END:VCALENDAR
