BEGIN:VCALENDAR
PRODID:-//kirchenweb.ch gmbh//veranstaltungsausgabe v2.0//DE
VERSION:2.0
METHOD:PUBLISH
BEGIN:VEVENT
DTSTART:20240119T090000Z
DTEND:20240119T100000Z
LOCATION:Altersheim Kirchhofplatz\, Kirchhofplatz 15\, 8200 Schaffhausen
TRANSP:OPAQUE
SEQUENCE:0
UID:160162-veranstaltung@ref-sh.ch
DTSTAMP:20231205T095137Z
DESCRIPTION:Kontakt: Pfarrerin Verena Hubmann\n\nWeitere Infos:
  https://www.ref-sh.ch/veranstaltung/160162
SUMMARY:Gottesdienst am Kirchhofplatz
PRIORITY:5
X-MICROSOFT-CDO-IMPORTANCE:1
CLASS:PUBLIC
END:VEVENT
END:VCALENDAR
