BEGIN:VCALENDAR
PRODID:-//kirchenweb.ch gmbh//veranstaltungsausgabe v2.0//DE
VERSION:2.0
METHOD:PUBLISH
BEGIN:VEVENT
DTSTART:20231213T170000Z
DTEND:20231213T173000Z
LOCATION:Fronwagplatz Schaffhausen\, \,
TRANSP:OPAQUE
SEQUENCE:0
UID:160138-veranstaltung@ref-sh.ch
DTSTAMP:20241114T203725Z
DESCRIPTION:Aus Solidarität mit Glaubensverfolgten eine halbe Stunde
  wachen und beten\n\nEin Zeichen der Solidarität - ein Licht der Hoffnung
 \nWeihnachten ist für Christen das Fest der Freude über die Geburt von
  Jesus Christus und gleichzeitig ein Aufruf zur Nächstenliebe. Jeder
  Mensch soll seinen Glauben frei ausüben können\, in gegenseitigem
  Respekt und in Frieden. Doch gerade in dieser Zeit gibt es weltweit viele
  Opfer von religiös motivierter Gewalt und Diskriminierung.\n\nWir setzen
  ein Zeichen für die Verfolgten!\nChristian Solidarity International
  (CSI) organisiert die 12. Mahnwache. Wir zeigen Präsenz und wollen ein
  Licht der Hoffnung für Glaubensverfolgte sein.\n\nWir kämpfen für
  Religionsfreiheit und Menschenwürde\nhttp://www.csi-schweiz.ch/mahnwache
 \n\n\nKontakt: Jérôme Trächsel\n\nWeitere Infos:
  https://www.ref-sh.ch/veranstaltung/160138
SUMMARY:Mahnwache
PRIORITY:5
X-MICROSOFT-CDO-IMPORTANCE:1
CLASS:PUBLIC
END:VEVENT
END:VCALENDAR
