BEGIN:VCALENDAR
PRODID:-//kirchenweb.ch gmbh//veranstaltungsausgabe v2.0//DE
VERSION:2.0
METHOD:PUBLISH
BEGIN:VEVENT
DTSTART:20240323T123000Z
DTEND:20240323T160000Z
LOCATION:\, \,
TRANSP:OPAQUE
SEQUENCE:0
UID:160077-veranstaltung@ref-sh.ch
DTSTAMP:20240312T151340Z
DESCRIPTION:Hallo Zusammen\n\nAm Samstag ist wieder Jungschi. Das Programm
  ist eines meiner Liebingsprogramme aus meiner Jungschärlerzeit. Es wird
  definitiv Super! :D\n\nhttps://www.ref-sh.ch/gruppe/jungschiprogramm
  gehts zur Anmeldung für unseren Newsletter\, eine Erinnerung mit den
  Daten zu den Nachmittagen verschicken wir jeweils in der Woche vorher.\n
 \nMatthias Niklaus\n\nKontakt: matthias.niklaus@ref-sh.ch\n\nWeitere
  Infos: https://www.ref-sh.ch/veranstaltung/160077
SUMMARY:Jungschi
PRIORITY:5
X-MICROSOFT-CDO-IMPORTANCE:1
CLASS:PUBLIC
END:VEVENT
END:VCALENDAR
