BEGIN:VCALENDAR
PRODID:-//kirchenweb.ch gmbh//veranstaltungsausgabe v2.0//DE
VERSION:2.0
METHOD:PUBLISH
BEGIN:VEVENT
DTSTART:20240112T083000Z
DTEND:20240112T093000Z
LOCATION:Zwinglikirche\, Hochstrasse 202\, 8200 Schaffhausen
TRANSP:OPAQUE
SEQUENCE:0
UID:160061-veranstaltung@ref-sh.ch
DTSTAMP:20231201T123319Z
DESCRIPTION:Kontakt: Giovanna Peditto\n\nWeitere Infos:
  https://www.ref-sh.ch/veranstaltung/160061
SUMMARY:Meditationstreffen
PRIORITY:5
X-MICROSOFT-CDO-IMPORTANCE:1
CLASS:PUBLIC
END:VEVENT
END:VCALENDAR
