BEGIN:VCALENDAR
PRODID:-//kirchenweb.ch gmbh//veranstaltungsausgabe v2.0//DE
VERSION:2.0
METHOD:PUBLISH
BEGIN:VEVENT
DTSTART:20240807T074500Z
DTEND:20240807T083000Z
LOCATION:Altersheim Schleitheim\, Alte Beggingerstrasse 60\, 8226
  Schleitheim
TRANSP:OPAQUE
SEQUENCE:0
UID:159844-veranstaltung@ref-sh.ch
DTSTAMP:20231130T163023Z
DESCRIPTION:Kontakt: Pfarrer Promod Mathew\n\nWeitere Infos:
  https://www.ref-sh.ch/veranstaltung/159844
SUMMARY:Andacht im Altersheim Schleitheim
PRIORITY:5
X-MICROSOFT-CDO-IMPORTANCE:1
CLASS:PUBLIC
END:VEVENT
END:VCALENDAR
