BEGIN:VCALENDAR
PRODID:-//kirchenweb.ch gmbh//veranstaltungsausgabe v2.0//DE
VERSION:2.0
METHOD:PUBLISH
BEGIN:VEVENT
DTSTART:20240914T170000Z
DTEND:20240914T184500Z
LOCATION:St.Johann\, Kirchhofplatz\, 8200 Schaffhausen
TRANSP:OPAQUE
SEQUENCE:0
UID:159828-veranstaltung@ref-sh.ch
DTSTAMP:20240827T135500Z
DESCRIPTION:Unter dem Titel «Nordische Streifzüge» präsentiert der
  Frauenchor «Vokalissimo» der Musikschule Schaffhausen unter der Leitung
  von Daniela David Chormusik aus Europas Norden. Ergänzt wird das schöne
  und vielfältige Programm mit Texten und Erläuterungen von Ute
  Nürnberg.\n\nKontakt: Pfarrerin Ute Nürnberg\n\nWeitere Infos:
  https://www.ref-sh.ch/veranstaltung/159828
SUMMARY:Soirée
PRIORITY:5
X-MICROSOFT-CDO-IMPORTANCE:1
CLASS:PUBLIC
END:VEVENT
END:VCALENDAR
