BEGIN:VCALENDAR
PRODID:-//kirchenweb.ch gmbh//veranstaltungsausgabe v2.0//DE
VERSION:2.0
METHOD:PUBLISH
BEGIN:VEVENT
DTSTART:20240123T061500Z
DTEND:20240123T071500Z
LOCATION:St.Johann\, Kirchhofplatz\, 8200 Schaffhausen
TRANSP:OPAQUE
SEQUENCE:0
UID:159731-veranstaltung@ref-sh.ch
DTSTAMP:20231129T152348Z
DESCRIPTION:Kontakt: admin.sjm@ref-sh.ch\n\nWeitere Infos:
  https://www.ref-sh.ch/veranstaltung/159731
SUMMARY:Meditation
PRIORITY:5
X-MICROSOFT-CDO-IMPORTANCE:1
CLASS:PUBLIC
END:VEVENT
END:VCALENDAR
