BEGIN:VCALENDAR
PRODID:-//kirchenweb.ch gmbh//veranstaltungsausgabe v2.0//DE
VERSION:2.0
METHOD:PUBLISH
BEGIN:VEVENT
DTSTART:20241103T091500Z
DTEND:20241103T104500Z
LOCATION:St.Johann\, Kirchhofplatz\, 8200 Schaffhausen
TRANSP:OPAQUE
SEQUENCE:0
UID:159667-veranstaltung@ref-sh.ch
DTSTAMP:20241030T124823Z
DESCRIPTION:Evangelische Christinnen und Christen begehen in der Schweiz
  das Reformationsfest am ersten Novembersonntag. Sie gedenken Martin
  Luthers Thesenanschlag in Wittenberg im Jahr 1517. Demnach brachte der
  Mönch und Theologieprofessor am Tag vor Allerheiligen 95 Thesen in
  Umlauf. Damit führte er einen Disput über die vorherrschende Praxis des
  Ablasshandels herbei und schliesslich die Erneuerung der Kirche\, die
  Reformation. Die evangelisch-reformierten Kirchgemeinden der Stadt
  Schaffhausen feiern das Reformationsfest in einem gemeinsamen
  Festgottesdienst. \n\nKontakt: Pfarrer Roland Diethelm\n\nWeitere Infos:
  https://www.ref-sh.ch/veranstaltung/159667
SUMMARY:Gottesdienst am Reformationssonntag mit Abendmahl
PRIORITY:5
X-MICROSOFT-CDO-IMPORTANCE:1
CLASS:PUBLIC
END:VEVENT
END:VCALENDAR
