BEGIN:VCALENDAR
PRODID:-//kirchenweb.ch gmbh//veranstaltungsausgabe v2.0//DE
VERSION:2.0
METHOD:PUBLISH
BEGIN:VEVENT
DTSTART:20240818T081500Z
DTEND:20240818T091500Z
LOCATION:St.Johann\, Kirchhofplatz\, 8200 Schaffhausen
TRANSP:OPAQUE
SEQUENCE:0
UID:159665-veranstaltung@ref-sh.ch
DTSTAMP:20240818T174455Z
DESCRIPTION:Der Stadtverband der ev.-ref. Kirchgemeinden in Schaffhausen
  feiert dieses Jahr sein 50jähriges Bestehen. Er war als Zweckverband
  für Verwaltungs-Dienstleistung für eine wachsende Bevölkerung mit rund
  25’000 Reformierten gegründet. Heute stehen wir vor der Aufgabe\,
  unsere Strukturen wieder dem Leben der Kirche anzupassen und sie so fit
  zu machen für die Herausforderungen unserer Tage. Das Jubiläum bietet
  Anlass\, dankbar für das Engagement und zugleich tatkräftig für die
  Zukunft zu sein. \n\nLektorin: Bettina Hoffmann\nLiturgie: Pfn. Ute
  Nürnberg\, Pfn. Bea Kunz und Pfr. Martin Baumgartner\nPredigt: Pfn.
  Miriam Gehrke und Pfr. Roland Diethelm \nMitwirkung: Festgottesdienst zum
  50Jahr-Jubiläums des Stadtverbandes der Reformierten Stadtkirchgemeinden
  von Schaffhausen\nLektorin: Bettina Hoffmann\nLiturgie: Pfn. Ute
  Nürnberg\, Pfn. Bea Kunz und Pfr. Martin Baumgartner\nPredigt: Pfn.
  Miriam Gehrke und Pfr. Roland Diethelm \nMitwirkung: Beat Stöckli
  (Präsident Delegiertenversammlung)\n\nKontakt: Pfarrerin Ute Nürnberg
 \nPfarrer Roland Diethelm\n\nWeitere Infos:
  https://www.ref-sh.ch/veranstaltung/159665
SUMMARY:Gottesdienst mit Jubiläumsfeier des Stadtverbands
PRIORITY:5
X-MICROSOFT-CDO-IMPORTANCE:1
CLASS:PUBLIC
END:VEVENT
END:VCALENDAR
