BEGIN:VCALENDAR
PRODID:-//kirchenweb.ch gmbh//veranstaltungsausgabe v2.0//DE
VERSION:2.0
METHOD:PUBLISH
BEGIN:VEVENT
DTSTART:20240301T180000Z
DTEND:20240301T190000Z
LOCATION:Heilsarmee\, Tannerberg 1 \, 8200 Schaffhausen
TRANSP:OPAQUE
SEQUENCE:0
UID:159624-veranstaltung@ref-sh.ch
DTSTAMP:20240225T103551Z
DESCRIPTION:Regionale Feier als Band des Friedens. \n\nKontakt: Pfarrerin
  Verena Hubmann\n\nWeitere Infos:
  https://www.ref-sh.ch/veranstaltung/159624
SUMMARY:Weltgebetstag 2024
PRIORITY:5
X-MICROSOFT-CDO-IMPORTANCE:1
CLASS:PUBLIC
END:VEVENT
END:VCALENDAR
