BEGIN:VCALENDAR
PRODID:-//kirchenweb.ch gmbh//veranstaltungsausgabe v2.0//DE
VERSION:2.0
METHOD:PUBLISH
BEGIN:VEVENT
DTSTART:20231220T063000Z
DTEND:20231220T080000Z
LOCATION:Nachbar Stahlgiesserei\, zur Stahlgiesserei 15b\, 8200
  Schaffhausen
TRANSP:OPAQUE
SEQUENCE:0
UID:159623-veranstaltung@ref-sh.ch
DTSTAMP:20231128T163005Z
DESCRIPTION:Meditation\, Achtsamkeit\, Yoga Flow\, Wohlbefinden mit
  Sandrina\nkeine Vorkenntnisse nötig\, bring deine eigene Matte mit\, auf
  Spendenbasis\n\nKontakt: Nicole Russenberger\, Sozialdiakonie\n\nWeitere
  Infos: https://www.ref-sh.ch/veranstaltung/159623
SUMMARY:Winter Well Being Class
PRIORITY:5
X-MICROSOFT-CDO-IMPORTANCE:1
CLASS:PUBLIC
END:VEVENT
END:VCALENDAR
