BEGIN:VCALENDAR
PRODID:-//kirchenweb.ch gmbh//veranstaltungsausgabe v2.0//DE
VERSION:2.0
METHOD:PUBLISH
BEGIN:VEVENT
DTSTART:20231202T083000Z
DTEND:20231202T130000Z
LOCATION:Gemeindehaussaal\, Gemeindehausplatz 3\, 8214 Gächlingen
TRANSP:OPAQUE
SEQUENCE:0
UID:159595-veranstaltung@ref-sh.ch
DTSTAMP:20231127T163401Z
DESCRIPTION:Kontakt: Monika Wieser\n\nWeitere Infos:
  https://www.ref-sh.ch/veranstaltung/159595
SUMMARY:Guetzle im Gemeindehaussaal
PRIORITY:5
X-MICROSOFT-CDO-IMPORTANCE:1
CLASS:PUBLIC
END:VEVENT
END:VCALENDAR
