BEGIN:VCALENDAR
PRODID:-//kirchenweb.ch gmbh//veranstaltungsausgabe v2.0//DE
VERSION:2.0
METHOD:PUBLISH
BEGIN:VEVENT
DTSTART:20231205T123000Z
DTEND:20231205T133000Z
LOCATION:Kirche Löhningen\, Kloster 3\, 8224 Löhningen
TRANSP:OPAQUE
SEQUENCE:0
UID:159506-veranstaltung@ref-sh.ch
DTSTAMP:20231208T072848Z
DESCRIPTION:Kontakt: Pfarrer Lukas Huber\n\nWeitere Infos:
  https://www.ref-sh.ch/veranstaltung/159506
SUMMARY:Abdankung Kurt René Müller
PRIORITY:5
X-MICROSOFT-CDO-IMPORTANCE:1
CLASS:PUBLIC
END:VEVENT
END:VCALENDAR
