BEGIN:VCALENDAR
PRODID:-//kirchenweb.ch gmbh//veranstaltungsausgabe v2.0//DE
VERSION:2.0
METHOD:PUBLISH
BEGIN:VEVENT
DTSTART:20231209T123000Z
DTEND:20231209T160000Z
LOCATION:Kirchgemeindehaus Beringen\, Steig 2\, 8222 Beringen
TRANSP:OPAQUE
SEQUENCE:0
UID:159505-veranstaltung@ref-sh.ch
DTSTAMP:20231125T163003Z
DESCRIPTION:Weitere Infos folgen\n\nMatthias Niklaus\n\n\nKontakt: Keine
  gültiges Attribut: "matthias niklaus".\n\nWeitere Infos:
  https://www.ref-sh.ch/veranstaltung/159505
SUMMARY:Jungschi
PRIORITY:5
X-MICROSOFT-CDO-IMPORTANCE:1
CLASS:PUBLIC
END:VEVENT
END:VCALENDAR
