BEGIN:VCALENDAR
PRODID:-//kirchenweb.ch gmbh//veranstaltungsausgabe v2.0//DE
VERSION:2.0
METHOD:PUBLISH
BEGIN:VEVENT
DTSTART:20240220T133000Z
DTEND:20240220T143000Z
LOCATION:Steigsaal\, Nordstrasse 33\, 8200 Schaffhausen
TRANSP:OPAQUE
SEQUENCE:0
UID:159482-veranstaltung@ref-sh.ch
DTSTAMP:20240129T090834Z
DESCRIPTION:Thema: Alex Capus\n\nKontakt: Marianne Hauser\n\nWeitere
  Infos: https://www.ref-sh.ch/veranstaltung/159482
SUMMARY:Bücher-Café
PRIORITY:5
X-MICROSOFT-CDO-IMPORTANCE:1
CLASS:PUBLIC
END:VEVENT
END:VCALENDAR
