BEGIN:VCALENDAR
PRODID:-//kirchenweb.ch gmbh//veranstaltungsausgabe v2.0//DE
VERSION:2.0
METHOD:PUBLISH
BEGIN:VEVENT
DTSTART:20240116T133000Z
DTEND:20240116T143000Z
LOCATION:Steigsaal\, Nordstrasse 33\, 8200 Schaffhausen
TRANSP:OPAQUE
SEQUENCE:0
UID:159481-veranstaltung@ref-sh.ch
DTSTAMP:20240115T081401Z
DESCRIPTION:Mit Bücher-Input\n\nKontakt: Marianne Hauser\n\nWeitere
  Infos: https://www.ref-sh.ch/veranstaltung/159481
SUMMARY:Bücher-Café
PRIORITY:5
X-MICROSOFT-CDO-IMPORTANCE:1
CLASS:PUBLIC
END:VEVENT
END:VCALENDAR
