BEGIN:VCALENDAR
PRODID:-//kirchenweb.ch gmbh//veranstaltungsausgabe v2.0//DE
VERSION:2.0
METHOD:PUBLISH
BEGIN:VEVENT
DTSTART:20241201T100000Z
DTEND:20241201T103000Z
LOCATION:Kirche\, Kirchstrasse 8\, 8214 Gächlingen
TRANSP:OPAQUE
SEQUENCE:0
UID:159479-veranstaltung@ref-sh.ch
DTSTAMP:20241121T174129Z
DESCRIPTION:An der Kirchgemeindeversammlung bestimmen wir dieses Jahr
  über die längerfristige Zukunft des Pfarramtes und der Kirchgemeinde
  Gächlingen:\nTraktanden sind unter anderen:\n• Wahlen in den
  Kirchenstand und Budget 2025\n• Pfarramt: wie weiter? Die Kirche ist in
  einem Entwicklungsprozess\, der auch auf das Pfarramt in Gächlingen
  Einfluss hat.\n• Gottesdienste 2025 und darüber hinaus: Der
  Gottesdienst muss mittelfristig anders organisiert werden.\n• Mehr
  Infos zu den Traktanden siehe die folgenden Links:\n\nUnterlagen zur
  Kirchgemeindeversammlung 
 \nhttp://www.ref-sh.ch/kg/gaechlingen/kirchgemeindeversammlung
 \nhttps://www.ref-sh.ch/Kirchgemeindeversammlung-weitere-informationen\n
 \nGäste sind herzlich willkommen. Sie dürfen nur an den Abstimmungen
  nicht teilnehmen.\n\nAnschliessend an die Versammlung offeriert der
  Kirchenstand einen Apéro.\n\n\nKontakt: werner.naef@ref-sh.ch\n\nWeitere
  Infos: https://www.ref-sh.ch/veranstaltung/159479
SUMMARY:Kirchgemeindeversammlung
PRIORITY:5
X-MICROSOFT-CDO-IMPORTANCE:1
CLASS:PUBLIC
END:VEVENT
END:VCALENDAR
