BEGIN:VCALENDAR
PRODID:-//kirchenweb.ch gmbh//veranstaltungsausgabe v2.0//DE
VERSION:2.0
METHOD:PUBLISH
BEGIN:VEVENT
DTSTART:20240126T170000Z
DTEND:20240126T190000Z
LOCATION:Hofmeisterhuus\, Eichenstrasse 37\, \, 8200 Schaffhausen
TRANSP:OPAQUE
SEQUENCE:0
UID:159266-veranstaltung@ref-sh.ch
DTSTAMP:20240110T130324Z
DESCRIPTION:Du liebst es in verschiedene Rollen zu schlüpfen und hast
  Spass am Improvisieren? Dann ist es Zeit für die FunFactory! Hier gibt
  es Spiel\, Spass und alles rund um das Theaterspielen. \n\nKontakt: \n
 \nWeitere Infos: https://www.ref-sh.ch/veranstaltung/159266
SUMMARY:FunFactory (Jugendtheatergruppe für 6.Klasse und +)
PRIORITY:5
X-MICROSOFT-CDO-IMPORTANCE:1
CLASS:PUBLIC
END:VEVENT
END:VCALENDAR
