BEGIN:VCALENDAR
PRODID:-//kirchenweb.ch gmbh//veranstaltungsausgabe v2.0//DE
VERSION:2.0
METHOD:PUBLISH
BEGIN:VEVENT
DTSTART:20240126T153000Z
DTEND:20240126T170000Z
LOCATION:Hofmeisterhuus\, Eichenstrasse 37\, \, 8200 Schaffhausen
TRANSP:OPAQUE
SEQUENCE:0
UID:159261-veranstaltung@ref-sh.ch
DTSTAMP:20240110T130251Z
DESCRIPTION:Wir treffen uns 1 Mal im Monat am Freitag\,  im Hofmeisterhuus
  an der Eichenstrasse 37\n\nDu liebst es in verschiedene Rollen zu
  schlüpfen und hast Spass am Improvisieren? Dann ist es Zeit für die
  FunFactory. Hier gibt es Spiel\, Spass und alles rund um das
  Theaterspielen. \n\n\n\nAnmeldungen bis 12 Uhr am jeweiligen Kurstag bei
  stephanie.lemke-signer\n077 511 30 62\nstephanie.lemke-signer@ref-sh.ch\n
 \nKontakt: \n\nWeitere Infos: https://www.ref-sh.ch/veranstaltung/159261
SUMMARY:FunFactory kids (3.-5. Klasse)
PRIORITY:5
X-MICROSOFT-CDO-IMPORTANCE:1
CLASS:PUBLIC
END:VEVENT
END:VCALENDAR
