BEGIN:VCALENDAR
PRODID:-//kirchenweb.ch gmbh//veranstaltungsausgabe v2.0//DE
VERSION:2.0
METHOD:PUBLISH
BEGIN:VEVENT
DTSTART:20240903T103000Z
DTEND:20240903T111500Z
LOCATION:Münster\, Münsterplatz\, 8200 Schaffhausen
TRANSP:OPAQUE
SEQUENCE:0
UID:159252-veranstaltung@ref-sh.ch
DTSTAMP:20240717T153006Z
DESCRIPTION:Eun Hye Lee\, geboren in Südkorea\, studierte Kirchenmusik
  und Orgel an der Seoul Theological University und an der Universität
  der Künste Berlin. Nachdem sie ihr Solistendiplom mit Auszeichnung
  abgeschlossen hat\, folgte ein weiteres Studium für alte Musik an der
  Schola Cantorum Basiliensis.\nSie erhielt den 2. Preis am internationalen
  Orgelwettbewerb «Francesco D’Onofrio»(I) und am\n«Prix Joseph
  Bossard» (CH).\nLee spielt regelmässig Konzerte als Solistin\,
  Kammermusikerin und Continuospielerin im In- und Ausland. Bevor sie in
  die Schweiz kam\, war sie als Assistenzorganistin am Berliner Dom mit der
  romantischen Sauerorgel (1905/IV Man. /113 Register) tätig. \nSeit
  Dezember 2011 arbeitet sie als Organistin an der katholischen Kirche St.
  Johannes in Weinfelden. \n\nEun-Hye Lee spielt werke von Kerll\, Krebs\,
  Dimer\, Matter\, Frescobaldi und Bruhns\n
 \nhttps://www.orgelkonzerte-sh.ch/konzerte/\n\nKontakt: Andreas Jud\n
 \nWeitere Infos: https://www.ref-sh.ch/veranstaltung/159252
SUMMARY:Orgelkonzert Eun-Hye Lee
PRIORITY:5
X-MICROSOFT-CDO-IMPORTANCE:1
CLASS:PUBLIC
END:VEVENT
END:VCALENDAR
