BEGIN:VCALENDAR
PRODID:-//kirchenweb.ch gmbh//veranstaltungsausgabe v2.0//DE
VERSION:2.0
METHOD:PUBLISH
BEGIN:VEVENT
DTSTART:20240917T103000Z
DTEND:20240917T111500Z
LOCATION:St.Johann\, Kirchhofplatz\, 8200 Schaffhausen
TRANSP:OPAQUE
SEQUENCE:0
UID:159251-veranstaltung@ref-sh.ch
DTSTAMP:20240717T153008Z
DESCRIPTION:Matthias Flierl wurde 1987 im mittelfränkischen Ansbach
  geboren.\nSein Studium der Kirchenmusik führte ihn nach Lübeck\,
  Toulouse und Berlin\, wo er 2014 den Masterabschluss erreichte. Ein
  weiteres Studium der Alten Musik (historische Tasteninstrumente)
  absolvierte er in Weimar. Zu seinen Lehrern an der Orgel zählten Arvid
  Gast\, Franz Danksagmüller\, Michel Bouvard\, Jan Willem Jansen\, Leo
  van Doeselaar\, Wolfgang Seifen und Bernhard Klapprott.\nSeit 2015 ist er
  Bezirkskantor an der Versöhnungskirche in Waldshut. In dieser Funktion
  ist er Organist an der Marc-Garnier-Orgel\, künstlerischer Leiter der
  Konzertreihe und verantwortlich für eine umfangreiche Chorarbeit mit
  Kindern und Erwachsenen. Als Kammermusikpartner musiziert er mit vielen
  verschiedenen Vokalsolisten und Instrumentalisten.\nSeine CD „Bel fiore
  danca“ mit Tänzen aus sieben Jahrhunderten erschien beim Label organum
  classics.\n\nMatthias Flierl spielt werke von Langlais\, Gárdonyi\,
  Kaminski\, Bossi\, Schmidt\, Britten und Brahms\n
 \nhttps://www.orgelkonzerte-sh.ch/konzerte/\n\nKontakt: Andreas Jud\n
 \nWeitere Infos: https://www.ref-sh.ch/veranstaltung/159251
SUMMARY:Orgelkonzert Matthias Flierl
PRIORITY:5
X-MICROSOFT-CDO-IMPORTANCE:1
CLASS:PUBLIC
END:VEVENT
END:VCALENDAR
