BEGIN:VCALENDAR
PRODID:-//kirchenweb.ch gmbh//veranstaltungsausgabe v2.0//DE
VERSION:2.0
METHOD:PUBLISH
BEGIN:VEVENT
DTSTART:20240820T103000Z
DTEND:20240820T111500Z
LOCATION:St.Johann\, Kirchhofplatz\, 8200 Schaffhausen
TRANSP:OPAQUE
SEQUENCE:0
UID:159250-veranstaltung@ref-sh.ch
DTSTAMP:20240813T143916Z
DESCRIPTION:Andreas Jud (*1986)\, geboren und aufgewachsen in der
  Ostschweiz\, erhielt schon früh von seinem Vater Unterricht in Klavier\,
  Violine und Orgel. Noch während dem Besuch der Kantonsschule am
  Burggraben in St. Gallen begann er mit dem Studium im Fach Orgel bei
  Jean-Claude Zehnder an der Musikhochschule der Stadt Basel. Es folgten
  Studien bei Guy Bovet und Martin Sander. Weitere wichtige Impulse erhielt
  er unter anderem von Tobias Lindner\, Ben van Oosten\, sowie Rudolf Lutz
  für Improvisation.\nFür sein Masterkonzert erhielt er den
  Hans-Balmer-Preis des Basler Organistenverbandes für das beste
  Orgeldiplom zugesprochen. Er ist Preisträger von internationalen
  Wettbewerben in Montréal (2011) und Nürnberg (2013). 2014 bis 2016 war
  Andreas Jud Stipendiat im Förderprogramm für junge Musizierende der
  Notenstein La Roche Privatbank. Konzertengagements führten Andreas Jud
  bisher in den gesamten deutschsprachigen Raum\, sowie nach Paris und Los
  Angeles. Seit 2014 war er an der Stadtkirche Lenzburg tätig und wurde
  schliesslich 2020 als Hauptorganist an die Kirche St. Johann und das
  Münster zu Allerheiligen in Schaffhausen gewählt.\n\nAndreas Jud spielt
  Werke von Franck\, Karg-Elert und Ritter\n
 \nhttps://www.orgelkonzerte-sh.ch/konzerte/\n\nKontakt: Andreas Jud\n
 \nWeitere Infos: https://www.ref-sh.ch/veranstaltung/159250
SUMMARY:Orgelkonzert Andreas Jud
PRIORITY:5
X-MICROSOFT-CDO-IMPORTANCE:1
CLASS:PUBLIC
END:VEVENT
END:VCALENDAR
