BEGIN:VCALENDAR
PRODID:-//kirchenweb.ch gmbh//veranstaltungsausgabe v2.0//DE
VERSION:2.0
METHOD:PUBLISH
BEGIN:VEVENT
DTSTART:20240314T133000Z
DTEND:20240314T143000Z
LOCATION:HofAckerZentrum Schaffhausen\, Alpenstrasse 176\, 8203
  Schaffhausen
TRANSP:OPAQUE
SEQUENCE:0
UID:159233-veranstaltung@ref-sh.ch
DTSTAMP:20240313T100729Z
DESCRIPTION:Theaternachmittag\n"Nid i diim Alter!"\n\nAuch dieses Jahr
  beschert uns das Seniorentheater Hallau wieder einen vergnüglichen
  Theaternachmittag. Mit dem Schwank «Nid i diim Alter!» erzählen sie
  die Geschichte von Berta\, die im Altersheim gleich von zwei Verehrern
  auf Freiersfüssen umworben wird. Berta geniesst noch einmal das Leben in
  vollen Zügen und alles wäre gut\, wenn da nicht ihre Tochter Theres
  wäre\, die findet: «Doch nid i diim Alter!» und die Mutter am liebsten
  in einem anderen Heim unterbringen würde. Überzeugen Sie sich selbst\,
  ob sich das Berta und ihre beiden Verehrer gefallen lassen. \n\nNach der
  Aufführung gibt es einen feinen Zvieri. Der Kostenbeitrag beträgt 5
  Franken. \n\nWir freuen uns auf Ihren Besuch!\n\nKontakt: Adriana Di
  Cesare.\n\nWeitere Infos: https://www.ref-sh.ch/veranstaltung/159233
SUMMARY:Theaternachmittag 60plus
PRIORITY:5
X-MICROSOFT-CDO-IMPORTANCE:1
CLASS:PUBLIC
END:VEVENT
END:VCALENDAR
