BEGIN:VCALENDAR
PRODID:-//kirchenweb.ch gmbh//veranstaltungsausgabe v2.0//DE
VERSION:2.0
METHOD:PUBLISH
BEGIN:VEVENT
DTSTART:20240116T133000Z
DTEND:20240116T153000Z
LOCATION:Pavillon\, Nordstrasse 33\, 8200 Schaffhausen
TRANSP:OPAQUE
SEQUENCE:0
UID:159015-veranstaltung@ref-sh.ch
DTSTAMP:20231121T163008Z
DESCRIPTION:Auskunft: theres.hintsch@bluewin.ch\n\nKontakt: Theres Hintsch
 \n\nWeitere Infos: https://www.ref-sh.ch/veranstaltung/159015
SUMMARY:Malkurs
PRIORITY:5
X-MICROSOFT-CDO-IMPORTANCE:1
CLASS:PUBLIC
END:VEVENT
END:VCALENDAR
