BEGIN:VCALENDAR
PRODID:-//kirchenweb.ch gmbh//veranstaltungsausgabe v2.0//DE
VERSION:2.0
METHOD:PUBLISH
BEGIN:VEVENT
DTSTART:20240117T133000Z
DTEND:20240117T160000Z
LOCATION:Steigsaal\, Nordstrasse 33\, 8200 Schaffhausen
TRANSP:OPAQUE
SEQUENCE:0
UID:158965-veranstaltung@ref-sh.ch
DTSTAMP:20240115T081455Z
DESCRIPTION:Im Mittwochs-Café im Steigsaal treffen wir uns zum
  Gespräch\, und oft gibt es auch eine fröhliche Spielerunde. Es sind
  alle\, ob Gross oder Klein\, herzlich eingeladen zu Kaffee/Tee und
  selbstgemachtem Kuchen.\nEs steht ein Kässeli bereit.\nWir freuen uns
  auf Sie.\nDas Team des Mittwoch-Café\n\nKontakt: admin.steig@ref-sh.ch\n
 \nWeitere Infos: https://www.ref-sh.ch/veranstaltung/158965
SUMMARY:Mittwochs-Café
PRIORITY:5
X-MICROSOFT-CDO-IMPORTANCE:1
CLASS:PUBLIC
END:VEVENT
END:VCALENDAR
