BEGIN:VCALENDAR
PRODID:-//kirchenweb.ch gmbh//veranstaltungsausgabe v2.0//DE
VERSION:2.0
METHOD:PUBLISH
BEGIN:VEVENT
DTSTART:20240118T090000Z
DTEND:20240118T100000Z
LOCATION:Steigkirche\, Nordstrasse 33\, 8200 Schaffhausen
TRANSP:OPAQUE
SEQUENCE:0
UID:158919-veranstaltung@ref-sh.ch
DTSTAMP:20240115T081511Z
DESCRIPTION:Mit Pfarrer Martin Baumgartner\n\nKontakt: Pfr. Martin
  Baumgartner\n\nWeitere Infos: https://www.ref-sh.ch/veranstaltung/158919
SUMMARY:Innehalten mit Wort und Musik
PRIORITY:5
X-MICROSOFT-CDO-IMPORTANCE:1
CLASS:PUBLIC
END:VEVENT
END:VCALENDAR
