BEGIN:VCALENDAR
PRODID:-//kirchenweb.ch gmbh//veranstaltungsausgabe v2.0//DE
VERSION:2.0
METHOD:PUBLISH
BEGIN:VEVENT
DTSTART;VALUE=DATE:20240916
DTEND;VALUE=DATE:20240917
LOCATION:Kirchgemeinde Buchthalen\, \,
TRANSP:OPAQUE
SEQUENCE:0
UID:158745-veranstaltung@ref-sh.ch
DTSTAMP:20231117T101322Z
DESCRIPTION:Montag\, 16. September bis Samstag\, 21. September 2024
 \nUnsere Gemeindeferien führen diesmal in den idyllischen Ferienort Zell
  am Ziller - dem Herzen des Zillertals - auf 575 Meter Seehöhe.\n\nIm
  tiroler Zillertal stehen Ruhe\, Natur und Gemütlichkeit im Zentrum.
  Umgeben von der malerischen Schönheit der Zillertaler Alpen bietet die
  Marktgemeinde Zell typischen Tiroler Charme. Wir logieren in einem
  altehrwürdigen Haus mit langer Tradition. Das Viersterne-Hotel Bräu
  sowie die dazugehörige Zillertaler Bierbrauerei befinden sich seit 17
  Generationen im Familienbesitz und vereinigen seit 500 Jahren Tradition
  und moderne Gastlichkeit. Sei es in einer der gemütlichen Gaststuben\,
  in der Wellness-Anlage mit geheiztem Aussenpool\, oder im Rahmen der
  Bräu-Halbpension mit hochwertigen Produkten aus der Region.\n\nDas
  Reiseunternehmen «Apfelcar» aus dem Thurgau begleitet uns auf der
  Hin-\, und Rückfahrt und steht uns für tägliche Ausflüge zur
  Verfügung. In der Nähe befinden sich zum Beispiel die berühmten
  Kimmler Wasserfälle oder das Städtchen Mayrhofen mit der Zillertaler
  Dampfbahn. Der Achensee besticht mit seinen smaragdgrünen und
  ultramarinblauen Farben als «Fjord der Alpen» und umliegende
  Ausflugsberge bieten bei klarem Wetter einen grandiosen Weitblick.
  Daneben bleibt genügend Zeit zum Innehalten\, für Gespräche und
  Gemeinschaft. \n\nEinzelzimmer CHF 1'300.-- / Doppelzimmer pro Person CHF
  1'200.--\nAlle Zimmer mit Dusche/Bad/WC\n\nInbegriffen: 5 Nächte
  Halbpension im Hotel Bräu\, Reise und Ausflüge mit dem Apfelcar\,
  Mittagessen auf der Hin- und Rückreise\, Eintritte auf Ausflügen. \n
 \nDie Gemeindeferien werden ab 12 Personen durchgeführt.\n\nIhr Team: 	
 \nOrganisation\ndaniel.mueller\n\nKontakt: admin.buchthalen@ref-sh.ch\n
 \nWeitere Infos: https://www.ref-sh.ch/veranstaltung/158745
SUMMARY:Gemeindeferien
PRIORITY:5
X-MICROSOFT-CDO-IMPORTANCE:1
CLASS:PUBLIC
END:VEVENT
END:VCALENDAR
