BEGIN:VCALENDAR
PRODID:-//kirchenweb.ch gmbh//veranstaltungsausgabe v2.0//DE
VERSION:2.0
METHOD:PUBLISH
BEGIN:VEVENT
DTSTART:20240417T130000Z
DTEND:20240417T140000Z
LOCATION:HofAckerZentrum\, Alpenstrasse 176\, 8203 Schaffhausen
TRANSP:OPAQUE
SEQUENCE:0
UID:158740-veranstaltung@ref-sh.ch
DTSTAMP:20240406T093801Z
DESCRIPTION:Genussvolles für Gemüt und Gaumen im «Kafi Intermezzo» im
  grossen Saal des HofAckerZentrums.\n\nIm «Kafi Intermezzo» treffen wir
  uns zum geselligen Austausch bei Kaffee\, Tee und Kuchen. Dazwischen
  sorgt ein musikalisches Live-Intermezzo à la surprise für Unterhaltung.
 \n\nHeute: Mach mal Pause!\nWir alle brauchen hin und wieder Abwechslung
  vom Alltag. Adriana Di Cesare und Carlos Greull bieten Lieder und Texte\,
  die Gefühle und Gedanken in eine unbeschwerte Richtung lenken. Zeit\, um
  die Sorgen vor der Tür zu lassen\, mal richtig durchzuatmen\,
  zurückzulehnen und zu geniessen.\n\n\n\nKostenbeitrag pro Person: 5
  Franken\nWir freuen uns auf Ihren Besuch!\n\nKontakt: Adriana Di Cesare\,
  Tel. 079 349 64 77\n\nWeitere Infos:
  https://www.ref-sh.ch/veranstaltung/158740
SUMMARY:"Kafi Intermezzo"
PRIORITY:5
X-MICROSOFT-CDO-IMPORTANCE:1
CLASS:PUBLIC
END:VEVENT
END:VCALENDAR
