BEGIN:VCALENDAR
PRODID:-//kirchenweb.ch gmbh//veranstaltungsausgabe v2.0//DE
VERSION:2.0
METHOD:PUBLISH
BEGIN:VEVENT
DTSTART:20240320T140000Z
DTEND:20240320T150000Z
LOCATION:HofAckerZentrum\, Alpenstrasse 176\, 8203 Schaffhausen
TRANSP:OPAQUE
SEQUENCE:0
UID:158739-veranstaltung@ref-sh.ch
DTSTAMP:20240221T070115Z
DESCRIPTION:Genussvolles für Gemüt und Gaumen im «Kafi Intermezzo» im
  grossen Saal des HofAckerZentrums.\n\nIm «Kafi Intermezzo» treffen wir
  uns zum geselligen Austausch bei Kaffee\, Tee und Kuchen. Dazwischen
  sorgt ein musikalisches Live-Intermezzo à la surprise für Unterhaltung.
 \n\nHeute: "Wunder gibt es immer wieder"\n\nWir alle brauchen hin und
  wieder ein kleines oder grosses Wunder\, das unseren Alltag verzaubert
  und uns Hoffnung und Zuversicht schenkt. "Wunder gibt es immer wieder"
  sang bereits Katja Ebstein in den 70er Jahren und berührte damit die
  Herzen des Publikums. Adriana Di Cesare und Carlos Greull nehmen den
  Titel des beliebten Schlagers auf\, um im "Kafi Intermezzo" vom März
  Geschichten und Lieder zu präsentieren\, die von Wundern erzählen.\n\n
 \n\nKostenbeitrag pro Person: 5 Franken\nWir freuen uns auf Ihren Besuch!
 \n\nKontakt: Adriana Di Cesare\, Tel. 079 349 64 77\n\nWeitere Infos:
  https://www.ref-sh.ch/veranstaltung/158739
SUMMARY:"Kafi Intermezzo"
PRIORITY:5
X-MICROSOFT-CDO-IMPORTANCE:1
CLASS:PUBLIC
END:VEVENT
END:VCALENDAR
