BEGIN:VCALENDAR
PRODID:-//kirchenweb.ch gmbh//veranstaltungsausgabe v2.0//DE
VERSION:2.0
METHOD:PUBLISH
BEGIN:VEVENT
DTSTART:20240221T140000Z
DTEND:20240221T150000Z
LOCATION:HofAckerZentrum\, Alpenstrasse 176\, 8203 Schaffhausen
TRANSP:OPAQUE
SEQUENCE:0
UID:158738-veranstaltung@ref-sh.ch
DTSTAMP:20240125T072318Z
DESCRIPTION:Genussvolles für Gemüt und Gaumen im «Kafi Intermezzo» im
  grossen Saal des HofAckerZentrums.\n\nIm «Kafi Intermezzo» treffen wir
  uns zum geselligen Austausch bei Kaffee\, Tee und Kuchen. Dazwischen
  sorgt ein musikalisches Live-Intermezzo à la surprise für Unterhaltung.
 \n\nHeute: "Früher war alles besser..."\nAdriana Di Cesare und Carlos
  Greull bieten im "Kafi Intermezzo" vom Februar ein Programm mit beliebten
  deutschen Liedern aus den dreissiger Jahren. Wer kennt ihn nicht\, den
  kleinen grünen Kaktus oder die Veronika\, die den Lenz begrüsst? Die
  gelungene Verknüpfung von Sentiment und Humor lässt jedes Herz höher
  schlagen!\n\n\n\nKostenbeitrag pro Person: 5 Franken\nWir freuen uns auf
  Ihren Besuch!\n\nKontakt: Adriana Di Cesare\, Tel. 079 349 64 77\n
 \nWeitere Infos: https://www.ref-sh.ch/veranstaltung/158738
SUMMARY:"Kafi Intermezzo"
PRIORITY:5
X-MICROSOFT-CDO-IMPORTANCE:1
CLASS:PUBLIC
END:VEVENT
END:VCALENDAR
