BEGIN:VCALENDAR
PRODID:-//kirchenweb.ch gmbh//veranstaltungsausgabe v2.0//DE
VERSION:2.0
METHOD:PUBLISH
BEGIN:VEVENT
DTSTART:20240124T140000Z
DTEND:20240124T150000Z
LOCATION:HofAckerZentrum\, Alpenstrasse 176\, 8203 Schaffhausen
TRANSP:OPAQUE
SEQUENCE:0
UID:158737-veranstaltung@ref-sh.ch
DTSTAMP:20240116T094648Z
DESCRIPTION:Genussvolles für Gemüt und Gaumen im «Kafi Intermezzo» im
  grossen Saal des HofAckerZentrums.\n\nIm «Kafi Intermezzo» treffen wir
  uns zum geselligen Austausch bei Kaffee\, Tee und Kuchen. Dazwischen
  sorgt ein musikalisches Live-Intermezzo à la surprise für Unterhaltung.
 \n\nHeute: "Aus dem Nähkästchen"\n\nAdriana Di Cesare und Carlos Greull
  blicken auf 20 Jahre gemeinsamen Bühnenschaffens zurück. Mit Musik\,
  Gesang\, Geschichten\, Dialogen und Kabarett sind sie auf vielen Bühnen
  aufgetreten. Im "Kafi Intermezzo" vom Januar plaudern sie aus dem
  Nähkästchen. Sie präsentieren Anekdoten rund um die Bühne sowie
  musikalische und sprachliche Perlen aus ihrem gemeinsamen Schaffen.\n\n
 \nKostenbeitrag pro Person: 5 Franken\nWir freuen uns auf Ihren Besuch!\n
 \nKontakt: Adriana Di Cesare\, Tel. 079 349 64 77\n\nWeitere Infos:
  https://www.ref-sh.ch/veranstaltung/158737
SUMMARY:"Kafi Intermezzo"
PRIORITY:5
X-MICROSOFT-CDO-IMPORTANCE:1
CLASS:PUBLIC
END:VEVENT
END:VCALENDAR
